BEGIN:VCALENDAR
VERSION:2.0
PRODID:-//Contratero//ES
CALSCALE:GREGORIAN
METHOD:PUBLISH
BEGIN:VEVENT
UID:03/23 RTPA@contratero.es
DTSTAMP:20260423T060807Z
DTSTART:20230215T235959
DTEND:20230216T005959
SUMMARY:Cierre: Servicio de suministro de licencias Configuration 
DESCRIPTION:Servicio de suministro de licencias Configuration Manager\\n\\nOrganismo: Dirección General de Radiotelevisión del Principado de Asturias\, S.A. Unipersonal\\n\\nVer en Contratero: https://contratero.es/contracts/03/23 RTPA
URL:https://contratero.es/contracts/03/23 RTPA
STATUS:CONFIRMED
BEGIN:VALARM
TRIGGER:-P1D
ACTION:DISPLAY
DESCRIPTION:Recordatorio: Servicio de suministro de lice
END:VALARM
END:VEVENT
END:VCALENDAR